BEGIN:VCALENDAR
VERSION:2.0
PRODID:-//SoftComp - ECPv6.15.15//NONSGML v1.0//EN
CALSCALE:GREGORIAN
METHOD:PUBLISH
X-WR-CALNAME:SoftComp
X-ORIGINAL-URL:https://eu-softcomp.net
X-WR-CALDESC:Events for SoftComp
REFRESH-INTERVAL;VALUE=DURATION:PT1H
X-Robots-Tag:noindex
X-PUBLISHED-TTL:PT1H
BEGIN:VTIMEZONE
TZID:Europe/Berlin
BEGIN:DAYLIGHT
TZOFFSETFROM:+0100
TZOFFSETTO:+0200
TZNAME:CEST
DTSTART:20230326T010000
END:DAYLIGHT
BEGIN:STANDARD
TZOFFSETFROM:+0200
TZOFFSETTO:+0100
TZNAME:CET
DTSTART:20231029T010000
END:STANDARD
BEGIN:DAYLIGHT
TZOFFSETFROM:+0100
TZOFFSETTO:+0200
TZNAME:CEST
DTSTART:20240331T010000
END:DAYLIGHT
BEGIN:STANDARD
TZOFFSETFROM:+0200
TZOFFSETTO:+0100
TZNAME:CET
DTSTART:20241027T010000
END:STANDARD
BEGIN:DAYLIGHT
TZOFFSETFROM:+0100
TZOFFSETTO:+0200
TZNAME:CEST
DTSTART:20250330T010000
END:DAYLIGHT
BEGIN:STANDARD
TZOFFSETFROM:+0200
TZOFFSETTO:+0100
TZNAME:CET
DTSTART:20251026T010000
END:STANDARD
BEGIN:DAYLIGHT
TZOFFSETFROM:+0100
TZOFFSETTO:+0200
TZNAME:CEST
DTSTART:20260329T010000
END:DAYLIGHT
BEGIN:STANDARD
TZOFFSETFROM:+0200
TZOFFSETTO:+0100
TZNAME:CET
DTSTART:20261025T010000
END:STANDARD
END:VTIMEZONE
BEGIN:VEVENT
DTSTART;TZID=Europe/Berlin:20240918T080000
DTEND;TZID=Europe/Berlin:20250331T170000
DTSTAMP:20260419T144733
CREATED:20240918T094526Z
LAST-MODIFIED:20240918T094526Z
UID:5193-1726646400-1743440400@eu-softcomp.net
SUMMARY:Doctoral candidate opening at IBI-4 of Forschungszentrum Juelich
DESCRIPTION:Dear all.\nAt IBI-4 of Forschungszentrum Juelich we are looking for a doctoral candidate to work in the framework of the Marie-Sklodowska-Curie Network BIOMAC-BP. This consortium aims to develop fully bio-sourced formulations as carriers for bio-pesticides.\nFurther details can be found here:  https://www.fz-juelich.de/en/careers/jobs/2024D-097\n\nIdeal candidates hold a M.Sc. degree in physics\, physical chemistry\, chemical engineering or a related field with a specialization in soft matter science. In addition they have experience in scientific programming. Experimental experience with light scattering and/or microscopy is not mandatory\, but would be very helpful.\nAccording to the mobility regulations of Marie-Sklodowska-Curie actions they must not have resided or carried out their main activity (work\, studies\, etc.) in Germany for more than 12 months during the last three years.\n\nI would be grateful if you could pass this information on to potential applicants.\nKind regards\nPeter Lang
URL:https://eu-softcomp.net/events/doctoral-candidate-opening-at-ibi-4-of-forschungszentrum-juelich/
CATEGORIES:Job Opportunities
END:VEVENT
END:VCALENDAR