BEGIN:VCALENDAR
VERSION:2.0
PRODID:-//SoftComp - ECPv6.15.15//NONSGML v1.0//EN
CALSCALE:GREGORIAN
METHOD:PUBLISH
X-ORIGINAL-URL:https://eu-softcomp.net
X-WR-CALDESC:Events for SoftComp
REFRESH-INTERVAL;VALUE=DURATION:PT1H
X-Robots-Tag:noindex
X-PUBLISHED-TTL:PT1H
BEGIN:VTIMEZONE
TZID:Europe/Berlin
BEGIN:DAYLIGHT
TZOFFSETFROM:+0100
TZOFFSETTO:+0200
TZNAME:CEST
DTSTART:20190331T010000
END:DAYLIGHT
BEGIN:STANDARD
TZOFFSETFROM:+0200
TZOFFSETTO:+0100
TZNAME:CET
DTSTART:20191027T010000
END:STANDARD
BEGIN:DAYLIGHT
TZOFFSETFROM:+0100
TZOFFSETTO:+0200
TZNAME:CEST
DTSTART:20200329T010000
END:DAYLIGHT
BEGIN:STANDARD
TZOFFSETFROM:+0200
TZOFFSETTO:+0100
TZNAME:CET
DTSTART:20201025T010000
END:STANDARD
BEGIN:DAYLIGHT
TZOFFSETFROM:+0100
TZOFFSETTO:+0200
TZNAME:CEST
DTSTART:20210328T010000
END:DAYLIGHT
BEGIN:STANDARD
TZOFFSETFROM:+0200
TZOFFSETTO:+0100
TZNAME:CET
DTSTART:20211031T010000
END:STANDARD
END:VTIMEZONE
BEGIN:VEVENT
DTSTART;TZID=Europe/Berlin:20201016T080000
DTEND;TZID=Europe/Berlin:20201231T170000
DTSTAMP:20260422T133924
CREATED:20201016T094700Z
LAST-MODIFIED:20201016T094700Z
UID:3551-1602835200-1609434000@eu-softcomp.net
SUMMARY:PhD  position F/M in materials chemistry/polymer science: mineral-organic composites for enhanced ion transport
DESCRIPTION:Ionic conductivity is a key property for emerging energy technologies like fuel cells and batteries.\nIn a joint project between the ‘Laboratoire Charles Coulomb’ (L2C) and the ‘Institut Charles\nGerhardt de Montpellier’ (ICGM)\, we will explore how ionic transport processes in poly(ionic\nliquids) (PILs) can be simultaneously enhanced by incorporating ionic liquids (IL) while controlling\nmechanical strength (and contributing to conductivity) through embedding of a second solid\,\nionically conducting network of ionosilica. For this purpose\, we will investigate the chemical and\nphysical properties of various ionic materials (ionic liquids\, ionosilicas\, poly(ionic liquids)) and\nnanostructured composites.\nThe synthesis of the ionic phases will be carried out at ICGM\, and the ion conducting properties\nwill be studied at L2C. Both project partners have strong scientific background in their respective\nfields: L2C (A.C. Genix\, J. Oberdisse) have deep expertise in structural and dynamical studies at\nthe nanoscale in complex polymer systems and nanocomposites. ICGM (P. Hesemann\, J. Alauzun\,\nS. Clément\, S. Devautour) is specialized in the synthesis of (nano)materials and PILs as well as\nelectrical measurements to characterize ionic dynamics of porous solids. As both consortium\npartners are localized in Montpellier\, the project will benefit from intense and regular scientific\nexchange.\nAs a part of this project\, the candidate will be in charge of the synthesis and characterization of\nthe ionic silica fillers\, poly(ionic liquids) as well as nanocomposite formulation. She/He should\nhave a strong background in materials or polymer chemistry\, as well as spectroscopic\ncharacterization methods. Good communication skills\, notably in English (oral and written)\, are\nmandatory.\nApplication deadline: November 15\, 2020\nStarting date: January 1st\, 2021\nContact: Dr. Peter Hesemann\nInstitut Charles Gerhardt\, équipe CMOS\nPlace E. Bataillon\n34090 Montpellier\npeter.hesemann@umontpellier.fr
URL:https://eu-softcomp.net/events/phd-position-f-m-in-materials-chemistry-polymer-science-mineral-organic-composites-for-enhanced-ion-transport/
CATEGORIES:Job Opportunities
ORGANIZER;CN="Julian Oberdisse":MAILTO:julian.oberdisse@umontpellier.fr
END:VEVENT
BEGIN:VEVENT
DTSTART;TZID=Europe/Berlin:20201026T103000
DTEND;TZID=Europe/Berlin:20201029T190000
DTSTAMP:20260422T133924
CREATED:20201007T100235Z
LAST-MODIFIED:20201007T100235Z
UID:3538-1603708200-1603998000@eu-softcomp.net
SUMMARY:International Conference “Motile Active Matter”
DESCRIPTION:The international conference “Motile Active Matter”\, organized by the DFG Priority Programme 1726 “Microswimmers”\, brings together scientists from the various disciplines involved in research on active matter\, disseminating recent progresses and highlighting future challenges. Topics include: \n• Cells and Microorganisms\n• Artificial and Biological Microswimmers\n• Collective Behavior\n• Steering and Navigation\n• Confinement and External Fields\n• Statistical Mechanics of Active Matter \nParticipation is free of charge and only possible after registration via the conference website. You will receive a link to the conference site by email. \n 
URL:https://eu-softcomp.net/events/international-conference-motile-active-matter-2/
LOCATION:Online event
CATEGORIES:Events
ATTACH;FMTTYPE=image/png:https://eu-softcomp.net/wp-content/uploads/2020/09/Screenshot-2020-09-29-at-10.21.14.png
ORGANIZER;CN="Gerhard Gompper":MAILTO:spp-microswimmers@fz-juelich.de
END:VEVENT
END:VCALENDAR